BEGIN:VCALENDAR
VERSION:2.0
PRODID:-//大館というところ。 - ECPv6.15.17.1//NONSGML v1.0//EN
CALSCALE:GREGORIAN
METHOD:PUBLISH
X-ORIGINAL-URL:https://odate-kanko.jp
X-WR-CALDESC:大館というところ。 のイベント
REFRESH-INTERVAL;VALUE=DURATION:PT1H
X-Robots-Tag:noindex
X-PUBLISHED-TTL:PT1H
BEGIN:VTIMEZONE
TZID:Asia/Tokyo
BEGIN:STANDARD
TZOFFSETFROM:+0900
TZOFFSETTO:+0900
TZNAME:JST
DTSTART:20240101T000000
END:STANDARD
END:VTIMEZONE
BEGIN:VEVENT
DTSTART;VALUE=DATE:20251011
DTEND;VALUE=DATE:20251013
DTSTAMP:20260424T192819
CREATED:20240616T012440Z
LAST-MODIFIED:20250915T011448Z
UID:440-1760140800-1760313599@odate-kanko.jp
SUMMARY:本場おおだてきりたんぽまつり
DESCRIPTION:202５年は「肉の博覧会」の最終回との合同開催！\n詳細は以下のサイトをご参照ください。 \n本場大館きりたんぽまつり202５の公式サイト \n\n大館食の祭典協議会ODATE FOOD FESodate-foodfes.com
URL:https://odate-kanko.jp/event/%e6%9c%ac%e5%a0%b4%e3%81%8a%e3%81%8a%e3%81%a0%e3%81%a6%e3%81%8d%e3%82%8a%e3%81%9f%e3%82%93%e3%81%bd%e3%81%be%e3%81%a4%e3%82%8a/
LOCATION:ニプロハチ公ドーム\, 上代野稲荷台１−１\, 大館市\, 秋田県\, 017-0031\, 日本
ATTACH;FMTTYPE=image/jpeg:https://odate-kanko.jp/wp-content/uploads/2024/06/IMG_6105.jpg
END:VEVENT
BEGIN:VEVENT
DTSTART;TZID=Asia/Tokyo:20250910T110000
DTEND;TZID=Asia/Tokyo:20250911T210000
DTSTAMP:20260424T192819
CREATED:20240609T031748Z
LAST-MODIFIED:20240616T140100Z
UID:332-1757502000-1757624400@odate-kanko.jp
SUMMARY:大館神明社例祭余興奉納行事（例大祭）
DESCRIPTION:例年９月１０日（宵宮）、１１日（本祭）が行われます。 \n \n大館神明社例祭余興奉納実行委員会公式サイトへ
URL:https://odate-kanko.jp/event/%e5%a4%a7%e9%a4%a8%e7%a5%9e%e6%98%8e%e7%a4%be%e4%be%8b%e7%a5%ad%e4%bd%99%e8%88%88%e5%a5%89%e7%b4%8d%e8%a1%8c%e4%ba%8b%ef%bc%88%e4%be%8b%e5%a4%a7%e7%a5%ad%ef%bc%89/
LOCATION:大館市中心部\, 中神明町１−５\, 大館市\, 秋田県\, 017-0867\, 日本
END:VEVENT
END:VCALENDAR