BEGIN:VCALENDAR
VERSION:2.0
PRODID:-//大館というところ。 - ECPv6.15.17.1//NONSGML v1.0//EN
CALSCALE:GREGORIAN
METHOD:PUBLISH
X-WR-CALNAME:大館というところ。
X-ORIGINAL-URL:https://odate-kanko.jp
X-WR-CALDESC:大館というところ。 のイベント
REFRESH-INTERVAL;VALUE=DURATION:PT1H
X-Robots-Tag:noindex
X-PUBLISHED-TTL:PT1H
BEGIN:VTIMEZONE
TZID:Asia/Tokyo
BEGIN:STANDARD
TZOFFSETFROM:+0900
TZOFFSETTO:+0900
TZNAME:JST
DTSTART:20230101T000000
END:STANDARD
END:VTIMEZONE
BEGIN:VEVENT
DTSTART;TZID=Asia/Tokyo:20251001T100000
DTEND;TZID=Asia/Tokyo:20251013T170000
DTSTAMP:20260424T212136
CREATED:20251001T061750Z
LAST-MODIFIED:20251001T061750Z
UID:653-1759312800-1760374800@odate-kanko.jp
SUMMARY:大館ばらまつり　シーズン２
DESCRIPTION:大館市の石田ローズガーデンで、10月1日（水）～13日（月・祝）に「大館バラまつり シーズン2」が開催されます。 \n春とはまた趣が異なる、秋咲きのバラが咲く風景を楽しむことができます。
URL:https://odate-kanko.jp/event/%e5%a4%a7%e9%a4%a8%e3%81%b0%e3%82%89%e3%81%be%e3%81%a4%e3%82%8a%e3%80%80%e3%82%b7%e3%83%bc%e3%82%ba%e3%83%b3%ef%bc%92/
LOCATION:石田ローズガーデン\, 三ノ丸１０−１０\, 大館市\, 秋田県\, 017-0897\, 日本
END:VEVENT
BEGIN:VEVENT
DTSTART;TZID=Asia/Tokyo:20250524T100000
DTEND;TZID=Asia/Tokyo:20250622T170000
DTSTAMP:20260424T212136
CREATED:20250525T061506Z
LAST-MODIFIED:20250525T061506Z
UID:617-1748080800-1750611600@odate-kanko.jp
SUMMARY:大館バラまつり　シーズン１
DESCRIPTION:
URL:https://odate-kanko.jp/event/%e5%a4%a7%e9%a4%a8%e3%83%90%e3%83%a9%e3%81%be%e3%81%a4%e3%82%8a%e3%80%80%e3%82%b7%e3%83%bc%e3%82%ba%e3%83%b3%ef%bc%91/
LOCATION:秋田県
END:VEVENT
BEGIN:VEVENT
DTSTART;VALUE=DATE:20240525
DTEND;VALUE=DATE:20240624
DTSTAMP:20260424T212136
CREATED:20240609T025058Z
LAST-MODIFIED:20240609T025058Z
UID:314-1716595200-1719187199@odate-kanko.jp
SUMMARY:大館バラまつり
DESCRIPTION:大館バラまつり2024は現在開催中です。 \n \n石田ローズガーデン（大館市）のサイトへ
URL:https://odate-kanko.jp/event/%e5%a4%a7%e9%a4%a8%e3%83%90%e3%83%a9%e3%81%be%e3%81%a4%e3%82%8a/
LOCATION:石田ローズガーデン\, 三ノ丸１０−１０\, 大館市\, 秋田県\, 017-0897\, 日本
ATTACH;FMTTYPE=image/png:https://odate-kanko.jp/wp-content/uploads/2024/06/IMG_1332.png
END:VEVENT
END:VCALENDAR