BEGIN:VCALENDAR
VERSION:2.0
PRODID:-//大館というところ。 - ECPv6.15.17.1//NONSGML v1.0//EN
CALSCALE:GREGORIAN
METHOD:PUBLISH
X-ORIGINAL-URL:https://odate-kanko.jp
X-WR-CALDESC:大館というところ。 のイベント
REFRESH-INTERVAL;VALUE=DURATION:PT1H
X-Robots-Tag:noindex
X-PUBLISHED-TTL:PT1H
BEGIN:VTIMEZONE
TZID:Asia/Tokyo
BEGIN:STANDARD
TZOFFSETFROM:+0900
TZOFFSETTO:+0900
TZNAME:JST
DTSTART:20230101T000000
END:STANDARD
END:VTIMEZONE
BEGIN:VEVENT
DTSTART;TZID=Asia/Tokyo:20240609T093000
DTEND;TZID=Asia/Tokyo:20240609T160000
DTSTAMP:20260424T194445
CREATED:20240609T032137Z
LAST-MODIFIED:20240609T032137Z
UID:336-1717925400-1717948800@odate-kanko.jp
SUMMARY:田代名産たけのこまつり2024
DESCRIPTION:
URL:https://odate-kanko.jp/event/%e7%94%b0%e4%bb%a3%e5%90%8d%e7%94%a3%e3%81%9f%e3%81%91%e3%81%ae%e3%81%93%e3%81%be%e3%81%a4%e3%82%8a2024/
LOCATION:田代多目的運動広場\, 早口字岩瀬越6-1\, 大館市\, 秋田県\, 日本
END:VEVENT
BEGIN:VEVENT
DTSTART;TZID=Asia/Tokyo:20240601T100000
DTEND;TZID=Asia/Tokyo:20240601T170000
DTSTAMP:20260424T194445
CREATED:20240609T024120Z
LAST-MODIFIED:20240609T024120Z
UID:308-1717236000-1717261200@odate-kanko.jp
SUMMARY:第９回肉の博覧会 in おおだて
DESCRIPTION:
URL:https://odate-kanko.jp/event/%e7%ac%ac%ef%bc%99%e5%9b%9e%e8%82%89%e3%81%ae%e5%8d%9a%e8%a6%a7%e4%bc%9a-in-%e3%81%8a%e3%81%8a%e3%81%a0%e3%81%a6/
LOCATION:秋田犬の里 多目的広場\, 御成町一丁目13-1\, 大館市\, 秋田県\, 017-0044\, 日本
END:VEVENT
BEGIN:VEVENT
DTSTART;VALUE=DATE:20240601
DTEND;VALUE=DATE:20240603
DTSTAMP:20260424T194445
CREATED:20240609T024533Z
LAST-MODIFIED:20240616T011513Z
UID:312-1717200000-1717372799@odate-kanko.jp
SUMMARY:第９回肉の博覧会 in おおだて
DESCRIPTION:【以下は2024年の情報です。2025年の情報は決まり次第公開します。】 \n第９回　肉の博覧会（肉博）in おおだて　は令和６（2024）年６月１日（土）、２日（日）に開催。 \n詳しは、大館食の祭典協議会のサイトをご覧ください。
URL:https://odate-kanko.jp/event/%e7%ac%ac%ef%bc%99%e5%9b%9e%e8%82%89%e3%81%ae%e5%8d%9a%e8%a6%a7%e4%bc%9a-in-%e3%81%8a%e3%81%8a%e3%81%a0%e3%81%a6-2/
LOCATION:秋田犬の里 多目的広場\, 御成町一丁目13-1\, 大館市\, 秋田県\, 017-0044\, 日本
END:VEVENT
BEGIN:VEVENT
DTSTART;VALUE=DATE:20240525
DTEND;VALUE=DATE:20240624
DTSTAMP:20260424T194445
CREATED:20240609T025058Z
LAST-MODIFIED:20240609T025058Z
UID:314-1716595200-1719187199@odate-kanko.jp
SUMMARY:大館バラまつり
DESCRIPTION:大館バラまつり2024は現在開催中です。 \n \n石田ローズガーデン（大館市）のサイトへ
URL:https://odate-kanko.jp/event/%e5%a4%a7%e9%a4%a8%e3%83%90%e3%83%a9%e3%81%be%e3%81%a4%e3%82%8a/
LOCATION:石田ローズガーデン\, 三ノ丸１０−１０\, 大館市\, 秋田県\, 017-0897\, 日本
ATTACH;FMTTYPE=image/png:https://odate-kanko.jp/wp-content/uploads/2024/06/IMG_1332.png
END:VEVENT
BEGIN:VEVENT
DTSTART;VALUE=DATE:20240517
DTEND;VALUE=DATE:20240527
DTSTAMP:20260424T194445
CREATED:20240609T030533Z
LAST-MODIFIED:20240616T010831Z
UID:324-1715904000-1716767999@odate-kanko.jp
SUMMARY:十ノ瀬藤の郷2024　期間限定開園
DESCRIPTION:【以下は2024年の情報です。2025年の情報は決まり次第公開します。】
URL:https://odate-kanko.jp/event/tonose2024/
LOCATION:十ノ瀬藤の郷\, 山田茂屋スカノ岱\, 大館市\, 秋田県\, 日本
END:VEVENT
BEGIN:VEVENT
DTSTART;VALUE=DATE:20240503
DTEND;VALUE=DATE:20240504
DTSTAMP:20260424T194445
CREATED:20240609T025826Z
LAST-MODIFIED:20240616T011112Z
UID:317-1714694400-1714780799@odate-kanko.jp
SUMMARY:秋田犬保存会第１４９回本部展
DESCRIPTION:【以下は2024年の情報です。2025年の情報は決まり次第公開します。】
URL:https://odate-kanko.jp/event/honbuten149/
LOCATION:桂城公園\, 中城1\, 大館市\, 秋田県\, 日本
END:VEVENT
BEGIN:VEVENT
DTSTART;VALUE=DATE:20240428
DTEND;VALUE=DATE:20240429
DTSTAMP:20260424T194445
CREATED:20240616T010226Z
LAST-MODIFIED:20240616T010226Z
UID:424-1714262400-1714348799@odate-kanko.jp
SUMMARY:山田敬藏記念ロードレース大会
DESCRIPTION:【以下は2024年の情報です。2025年の情報は決まり次第公開します。】 \n \n山田敬藏記念ロードレース大会の公式サイトへ
URL:https://odate-kanko.jp/event/%e5%b1%b1%e7%94%b0%e6%95%ac%e8%97%8f%e8%a8%98%e5%bf%b5%e3%83%ad%e3%83%bc%e3%83%89%e3%83%ac%e3%83%bc%e3%82%b9%e5%a4%a7%e4%bc%9a/
END:VEVENT
BEGIN:VEVENT
DTSTART;VALUE=DATE:20240413
DTEND;VALUE=DATE:20240504
DTSTAMP:20260424T194445
CREATED:20240609T030019Z
LAST-MODIFIED:20240616T010626Z
UID:321-1712966400-1714780799@odate-kanko.jp
SUMMARY:大館桜まつり
DESCRIPTION:【以下は2024年の情報です。2025年の情報は決まり次第公開します。】 \n2024年の大館さくらまつりは４月１３日（日）から５月３日（金）までの会期で、大館市桂城（けいじょう）公園で開催。
URL:https://odate-kanko.jp/event/%e5%a4%a7%e9%a4%a8%e6%a1%9c%e3%81%be%e3%81%a4%e3%82%8a/
LOCATION:桂城公園\, 中城1\, 大館市\, 秋田県\, 日本
END:VEVENT
BEGIN:VEVENT
DTSTART;TZID=Asia/Tokyo:20240210T100000
DTEND;TZID=Asia/Tokyo:20240211T153000
DTSTAMP:20260424T194445
CREATED:20240616T005534Z
LAST-MODIFIED:20240616T005803Z
UID:420-1707559200-1707665400@odate-kanko.jp
SUMMARY:大館アメッコ市
DESCRIPTION:【以下は2024年の情報です。2025年の情報は決まり次第公開します。】\n\n\n\n\n開催日　令和６年　２月１０日（土）10:00~17:00　／　１１日（日）9:00~15:30 \n\n\n\n会場　大館市おおまちハチ公通り \n\n\n\n\n\n\n\n\n\n\n\n\n\n【お問合せ】 \n\n\n\n大館アメッコ市実行委員会事務局（大館市観光協会）　TEL. 0186-42-4360 \n\n\n\nイベント当日実施本部　TEL. 090-6623-7671 \n\n\n\n  \n\n 
URL:https://odate-kanko.jp/event/%e5%a4%a7%e9%a4%a8%e3%82%a2%e3%83%a1%e3%83%83%e3%82%b3%e5%b8%82/
END:VEVENT
END:VCALENDAR